BEGIN:VCALENDAR
VERSION:2.0
PRODID:-//My Calendar//http://www.joedolson.com//v3.3.8//EN
METHOD:PUBLISH
CALSCALE:GREGORIAN
X-WR-CALNAME:美容脱毛機器の販売【株式会社TESコーポレーション】
X-PUBLISHED-TTL:PT24H
REFRESH-INTERVAL;VALUE=DURATION:PT24H
X-WR-CALDESC:美容脱毛機器の販売【株式会社TESコーポレーション】のイベント
BEGIN:VEVENT
UID:18-17
LOCATION:
SUMMARY:休業日
DTSTAMP:20270322T000000
ORGANIZER;CN=tes-admin-cross:MAILTO:seisakushiyou0214@gmail.com
DTSTART;TZID=Asia/Tokyo:20270322T000000
DTEND;TZID=Asia/Tokyo:20270322T010000
URL;VALUE=URI:https://tes-inc.jp
DESCRIPTION: 
CATEGORIES:General休業日
END:VEVENT
BEGIN:VEVENT
UID:17-16
LOCATION:
SUMMARY:休業日
DTSTAMP:20270223T000000
ORGANIZER;CN=tes-admin-cross:MAILTO:seisakushiyou0214@gmail.com
DTSTART;TZID=Asia/Tokyo:20270223T000000
DTEND;TZID=Asia/Tokyo:20270223T010000
URL;VALUE=URI:https://tes-inc.jp
DESCRIPTION: 
CATEGORIES:General休業日
END:VEVENT
BEGIN:VEVENT
UID:16-15
LOCATION:
SUMMARY:休業日
DTSTAMP:20270211T000000
ORGANIZER;CN=tes-admin-cross:MAILTO:seisakushiyou0214@gmail.com
DTSTART;TZID=Asia/Tokyo:20270211T000000
DTEND;TZID=Asia/Tokyo:20270211T010000
URL;VALUE=URI:https://tes-inc.jp
DESCRIPTION: 
CATEGORIES:General休業日
END:VEVENT
BEGIN:VEVENT
UID:15-14
LOCATION:
SUMMARY:休業日
DTSTAMP:20270111T000000
ORGANIZER;CN=tes-admin-cross:MAILTO:seisakushiyou0214@gmail.com
DTSTART;TZID=Asia/Tokyo:20270111T000000
DTEND;TZID=Asia/Tokyo:20270111T010000
URL;VALUE=URI:https://tes-inc.jp
DESCRIPTION: 
CATEGORIES:General休業日
END:VEVENT
BEGIN:VEVENT
UID:14-13
LOCATION:
SUMMARY:休業日
DTSTAMP:20270101T000000
ORGANIZER;CN=tes-admin-cross:MAILTO:seisakushiyou0214@gmail.com
DTSTART;TZID=Asia/Tokyo:20270101T000000
DTEND;TZID=Asia/Tokyo:20270101T010000
URL;VALUE=URI:https://tes-inc.jp
DESCRIPTION: 
CATEGORIES:General休業日
END:VEVENT
BEGIN:VEVENT
UID:13-12
LOCATION:
SUMMARY:休業日
DTSTAMP:20261123T000000
ORGANIZER;CN=tes-admin-cross:MAILTO:seisakushiyou0214@gmail.com
DTSTART;TZID=Asia/Tokyo:20261123T000000
DTEND;TZID=Asia/Tokyo:20261123T010000
URL;VALUE=URI:https://tes-inc.jp
DESCRIPTION: 
CATEGORIES:General休業日
END:VEVENT
BEGIN:VEVENT
UID:12-11
LOCATION:
SUMMARY:休業日
DTSTAMP:20261103T000000
ORGANIZER;CN=tes-admin-cross:MAILTO:seisakushiyou0214@gmail.com
DTSTART;TZID=Asia/Tokyo:20261103T000000
DTEND;TZID=Asia/Tokyo:20261103T010000
URL;VALUE=URI:https://tes-inc.jp
DESCRIPTION: 
CATEGORIES:General休業日
END:VEVENT
BEGIN:VEVENT
UID:11-10
LOCATION:
SUMMARY:休業日
DTSTAMP:20261012T000000
ORGANIZER;CN=tes-admin-cross:MAILTO:seisakushiyou0214@gmail.com
DTSTART;TZID=Asia/Tokyo:20261012T000000
DTEND;TZID=Asia/Tokyo:20261012T010000
URL;VALUE=URI:https://tes-inc.jp
DESCRIPTION: 
CATEGORIES:General休業日
END:VEVENT
BEGIN:VEVENT
UID:10-9
LOCATION:
SUMMARY:休業日
DTSTAMP:20260921T000000
ORGANIZER;CN=tes-admin-cross:MAILTO:seisakushiyou0214@gmail.com
DTSTART;TZID=Asia/Tokyo:20260921T000000
DTEND;TZID=Asia/Tokyo:20260923T010000
URL;VALUE=URI:https://tes-inc.jp
DESCRIPTION: 
CATEGORIES:General休業日
END:VEVENT
BEGIN:VEVENT
UID:9-8
LOCATION:
SUMMARY:休業日
DTSTAMP:20260811T000000
ORGANIZER;CN=tes-admin-cross:MAILTO:seisakushiyou0214@gmail.com
DTSTART;TZID=Asia/Tokyo:20260811T000000
DTEND;TZID=Asia/Tokyo:20260811T010000
URL;VALUE=URI:https://tes-inc.jp
DESCRIPTION: 
CATEGORIES:General休業日
END:VEVENT
BEGIN:VEVENT
UID:8-7
LOCATION:
SUMMARY:休業日
DTSTAMP:20260720T000000
ORGANIZER;CN=tes-admin-cross:MAILTO:seisakushiyou0214@gmail.com
DTSTART;TZID=Asia/Tokyo:20260720T000000
DTEND;TZID=Asia/Tokyo:20260720T010000
URL;VALUE=URI:https://tes-inc.jp
DESCRIPTION: 
CATEGORIES:General休業日
END:VEVENT
BEGIN:VEVENT
UID:7-6
LOCATION:
SUMMARY:休業日
DTSTAMP:20260429T000000
ORGANIZER;CN=tes-admin-cross:MAILTO:seisakushiyou0214@gmail.com
DTSTART;TZID=Asia/Tokyo:20260429T000000
DTEND;TZID=Asia/Tokyo:20260430T000000
URL;VALUE=URI:https://tes-inc.jp
DESCRIPTION: 
CATEGORIES:General休業日
X-FUNAMBOL-ALLDAY: 1
X-MICROSOFT-CDO-ALLDAYEVENT: TRUE

END:VEVENT
END:VCALENDAR