BEGIN:VCALENDAR
VERSION:2.0
PRODID:-//My Calendar//http://www.joedolson.com//v3.3.8//EN
METHOD:PUBLISH
CALSCALE:GREGORIAN
X-WR-CALNAME:美容脱毛機器の販売【株式会社TESコーポレーション】
X-PUBLISHED-TTL:PT24H
REFRESH-INTERVAL;VALUE=DURATION:PT24H
X-WR-CALDESC:美容脱毛機器の販売【株式会社TESコーポレーション】のイベント
BEGIN:VEVENT
UID:18-17
LOCATION:
SUMMARY:休業日
DTSTAMP:20270321T150000Z
ORGANIZER;CN=tes-admin-cross:MAILTO:seisakushiyou0214@gmail.com
DTSTART;TZID=Asia/Tokyo:20270321T150000Z
DTEND;TZID=Asia/Tokyo:20270321T160000Z
URL;VALUE=URI:https://tes-inc.jp
DESCRIPTION: 
CATEGORIES:General休業日
END:VEVENT
BEGIN:VEVENT
UID:17-16
LOCATION:
SUMMARY:休業日
DTSTAMP:20270222T150000Z
ORGANIZER;CN=tes-admin-cross:MAILTO:seisakushiyou0214@gmail.com
DTSTART;TZID=Asia/Tokyo:20270222T150000Z
DTEND;TZID=Asia/Tokyo:20270222T160000Z
URL;VALUE=URI:https://tes-inc.jp
DESCRIPTION: 
CATEGORIES:General休業日
END:VEVENT
BEGIN:VEVENT
UID:16-15
LOCATION:
SUMMARY:休業日
DTSTAMP:20270210T150000Z
ORGANIZER;CN=tes-admin-cross:MAILTO:seisakushiyou0214@gmail.com
DTSTART;TZID=Asia/Tokyo:20270210T150000Z
DTEND;TZID=Asia/Tokyo:20270210T160000Z
URL;VALUE=URI:https://tes-inc.jp
DESCRIPTION: 
CATEGORIES:General休業日
END:VEVENT
BEGIN:VEVENT
UID:15-14
LOCATION:
SUMMARY:休業日
DTSTAMP:20270110T150000Z
ORGANIZER;CN=tes-admin-cross:MAILTO:seisakushiyou0214@gmail.com
DTSTART;TZID=Asia/Tokyo:20270110T150000Z
DTEND;TZID=Asia/Tokyo:20270110T160000Z
URL;VALUE=URI:https://tes-inc.jp
DESCRIPTION: 
CATEGORIES:General休業日
END:VEVENT
BEGIN:VEVENT
UID:14-13
LOCATION:
SUMMARY:休業日
DTSTAMP:20261231T150000Z
ORGANIZER;CN=tes-admin-cross:MAILTO:seisakushiyou0214@gmail.com
DTSTART;TZID=Asia/Tokyo:20261231T150000Z
DTEND;TZID=Asia/Tokyo:20261231T160000Z
URL;VALUE=URI:https://tes-inc.jp
DESCRIPTION: 
CATEGORIES:General休業日
END:VEVENT
BEGIN:VEVENT
UID:13-12
LOCATION:
SUMMARY:休業日
DTSTAMP:20261122T150000Z
ORGANIZER;CN=tes-admin-cross:MAILTO:seisakushiyou0214@gmail.com
DTSTART;TZID=Asia/Tokyo:20261122T150000Z
DTEND;TZID=Asia/Tokyo:20261122T160000Z
URL;VALUE=URI:https://tes-inc.jp
DESCRIPTION: 
CATEGORIES:General休業日
END:VEVENT
BEGIN:VEVENT
UID:12-11
LOCATION:
SUMMARY:休業日
DTSTAMP:20261102T150000Z
ORGANIZER;CN=tes-admin-cross:MAILTO:seisakushiyou0214@gmail.com
DTSTART;TZID=Asia/Tokyo:20261102T150000Z
DTEND;TZID=Asia/Tokyo:20261102T160000Z
URL;VALUE=URI:https://tes-inc.jp
DESCRIPTION: 
CATEGORIES:General休業日
END:VEVENT
BEGIN:VEVENT
UID:11-10
LOCATION:
SUMMARY:休業日
DTSTAMP:20261011T150000Z
ORGANIZER;CN=tes-admin-cross:MAILTO:seisakushiyou0214@gmail.com
DTSTART;TZID=Asia/Tokyo:20261011T150000Z
DTEND;TZID=Asia/Tokyo:20261011T160000Z
URL;VALUE=URI:https://tes-inc.jp
DESCRIPTION: 
CATEGORIES:General休業日
END:VEVENT
BEGIN:VEVENT
UID:10-9
LOCATION:
SUMMARY:休業日
DTSTAMP:20260920T150000Z
ORGANIZER;CN=tes-admin-cross:MAILTO:seisakushiyou0214@gmail.com
DTSTART;TZID=Asia/Tokyo:20260920T150000Z
DTEND;TZID=Asia/Tokyo:20260922T160000Z
URL;VALUE=URI:https://tes-inc.jp
DESCRIPTION: 
CATEGORIES:General休業日
END:VEVENT
BEGIN:VEVENT
UID:9-8
LOCATION:
SUMMARY:休業日
DTSTAMP:20260810T150000Z
ORGANIZER;CN=tes-admin-cross:MAILTO:seisakushiyou0214@gmail.com
DTSTART;TZID=Asia/Tokyo:20260810T150000Z
DTEND;TZID=Asia/Tokyo:20260810T160000Z
URL;VALUE=URI:https://tes-inc.jp
DESCRIPTION: 
CATEGORIES:General休業日
END:VEVENT
BEGIN:VEVENT
UID:8-7
LOCATION:
SUMMARY:休業日
DTSTAMP:20260719T150000Z
ORGANIZER;CN=tes-admin-cross:MAILTO:seisakushiyou0214@gmail.com
DTSTART;TZID=Asia/Tokyo:20260719T150000Z
DTEND;TZID=Asia/Tokyo:20260719T160000Z
URL;VALUE=URI:https://tes-inc.jp
DESCRIPTION: 
CATEGORIES:General休業日
END:VEVENT
BEGIN:VEVENT
UID:7-6
LOCATION:
SUMMARY:休業日
DTSTAMP:20260428T150000Z
ORGANIZER;CN=tes-admin-cross:MAILTO:seisakushiyou0214@gmail.com
DTSTART;TZID=Asia/Tokyo:20260428T150000Z
DTEND;TZID=Asia/Tokyo:20260429T150000
URL;VALUE=URI:https://tes-inc.jp
DESCRIPTION: 
CATEGORIES:General休業日
X-FUNAMBOL-ALLDAY: 1
X-MICROSOFT-CDO-ALLDAYEVENT: TRUE

END:VEVENT
END:VCALENDAR